BEGIN:VCALENDAR
VERSION:2.0
PRODID:-//جمعية تاريخ وآثار البحرين - ECPv6.15.18//NONSGML v1.0//EN
CALSCALE:GREGORIAN
METHOD:PUBLISH
X-ORIGINAL-URL:https://thebhas.com
X-WR-CALDESC:الأحداث لـ جمعية تاريخ وآثار البحرين
REFRESH-INTERVAL;VALUE=DURATION:PT1H
X-Robots-Tag:noindex
X-PUBLISHED-TTL:PT1H
BEGIN:VTIMEZONE
TZID:Europe/Moscow
BEGIN:STANDARD
TZOFFSETFROM:+0300
TZOFFSETTO:+0300
TZNAME:MSK
DTSTART:20240101T000000
END:STANDARD
END:VTIMEZONE
BEGIN:VEVENT
DTSTART;TZID=Europe/Moscow:20250903T080000
DTEND;TZID=Europe/Moscow:20250903T170000
DTSTAMP:20260420T041601
CREATED:20200428T102832Z
LAST-MODIFIED:20260112T074122Z
UID:10000004-1756886400-1756918800@thebhas.com
SUMMARY:العثمانين في الساحل الشرقي للجزيرة العربية
DESCRIPTION:
URL:https://thebhas.com/event/%d8%a7%d9%84%d8%b9%d8%ab%d9%85%d8%a7%d9%86%d9%8a%d9%86-%d9%81%d9%8a-%d8%a7%d9%84%d8%b3%d8%a7%d8%ad%d9%84-%d8%a7%d9%84%d8%b4%d8%b1%d9%82%d9%8a-%d9%84%d9%84%d8%ac%d8%b2%d9%8a%d8%b1%d8%a9-%d8%a7%d9%84/
LOCATION:مقر الجمعية – الجفير\, 6J54+R5\, Rd No 4727\, Manama\, Bahrain\, Manama\, Bahrain
CATEGORIES:مقر الجمعية – الجفير
END:VEVENT
END:VCALENDAR