BEGIN:VCALENDAR
VERSION:2.0
PRODID:-//جمعية تاريخ وآثار البحرين - ECPv6.15.18//NONSGML v1.0//EN
CALSCALE:GREGORIAN
METHOD:PUBLISH
X-WR-CALNAME:جمعية تاريخ وآثار البحرين
X-ORIGINAL-URL:https://thebhas.com
X-WR-CALDESC:الأحداث لـ جمعية تاريخ وآثار البحرين
REFRESH-INTERVAL;VALUE=DURATION:PT1H
X-Robots-Tag:noindex
X-PUBLISHED-TTL:PT1H
BEGIN:VTIMEZONE
TZID:Europe/Moscow
BEGIN:STANDARD
TZOFFSETFROM:+0300
TZOFFSETTO:+0300
TZNAME:MSK
DTSTART:20240101T000000
END:STANDARD
END:VTIMEZONE
BEGIN:VEVENT
DTSTART;TZID=Europe/Moscow:20250917T080000
DTEND;TZID=Europe/Moscow:20250917T170000
DTSTAMP:20260420T083543
CREATED:20260111T164909Z
LAST-MODIFIED:20260112T074116Z
UID:10000015-1758096000-1758128400@thebhas.com
SUMMARY:عرض كتاب "الإبحار إلى الهيرات .. استذكار مشاهد الغوص في البحرين"
DESCRIPTION:
URL:https://thebhas.com/event/%d8%b9%d8%b1%d8%b6-%d9%83%d8%aa%d8%a7%d8%a8-%d8%a7%d9%84%d8%a5%d8%a8%d8%ad%d8%a7%d8%b1-%d8%a5%d9%84%d9%89-%d8%a7%d9%84%d9%87%d9%8a%d8%b1%d8%a7%d8%aa-%d8%a7%d8%b3%d8%aa%d8%b0%d9%83%d8%a7%d8%b1/
LOCATION:مقر الجمعية – الجفير\, 6J54+R5\, Rd No 4727\, Manama\, Bahrain\, Manama\, Bahrain
CATEGORIES:مقر الجمعية – الجفير
ORGANIZER;CN="%D8%AF. %D8%A5%D8%A8%D8%B1%D8%A7%D9%87%D9%8A%D9%85 %D8%B9%D8%A8%D8%AF%D8%A7%D9%84%D9%84%D9%87 %D9%85%D8%B7%D8%B1":MAILTO:info@thebhas.com
END:VEVENT
END:VCALENDAR